BEGIN:VCALENDAR
VERSION:2.0
PRODID:-//SoCal Women&#039;s Cricket - ECPv6.15.20//NONSGML v1.0//EN
CALSCALE:GREGORIAN
METHOD:PUBLISH
X-ORIGINAL-URL:https://socalwomenscricket.com
X-WR-CALDESC:Events for SoCal Women&#039;s Cricket
REFRESH-INTERVAL;VALUE=DURATION:PT1H
X-Robots-Tag:noindex
X-PUBLISHED-TTL:PT1H
BEGIN:VTIMEZONE
TZID:UTC
BEGIN:STANDARD
TZOFFSETFROM:+0000
TZOFFSETTO:+0000
TZNAME:UTC
DTSTART:20220101T000000
END:STANDARD
END:VTIMEZONE
BEGIN:VEVENT
DTSTART;TZID=UTC:20241231T080000
DTEND;TZID=UTC:20241231T170000
DTSTAMP:20260423T163949
CREATED:20241007T174251Z
LAST-MODIFIED:20241007T174313Z
UID:1827-1735632000-1735664400@socalwomenscricket.com
SUMMARY:Ongoing Women's Cricket Events 2024
DESCRIPTION:SoCal Women’s Cricket Association continues to host regular cricket practices for women players of all skill levels in Southern California. Reach out to us via the website so we can add you to our WhatsApp group\, where we post all of our up-to-date event info\, including competing in the OCCA Winter League ’24\, World Cup viewing events\, tournament opportunities\, and more.
URL:https://socalwomenscricket.com/event/scheduled-womens-cricket-events/
CATEGORIES:SoCal Cricket,women's cricket
END:VEVENT
BEGIN:VEVENT
DTSTART;TZID=UTC:20231202T130000
DTEND;TZID=UTC:20231202T150000
DTSTAMP:20260423T163949
CREATED:20231129T043626Z
LAST-MODIFIED:20231129T043629Z
UID:1264-1701522000-1701529200@socalwomenscricket.com
SUMMARY:SoCal Women's Cricket Practice | December 2
DESCRIPTION:It’s our 10th cricket practice for women! To celebrate\, we’re going to play a lot of cricket. Join us at the Irvine Great Park on Saturday\, December 2 @ 1pm. Please RSVP for the exact field location. \n\n\n\nIf you haven’t tried the game of cricket\, this is a great opportunity to learn why it has 2.5 billion fans worldwide – it’s really fun to hit the ball! Once you play cricket\, you’ll want to stick with it. \n\n\n\nWomen cricketers of any experience level are welcome. Even if you’ve never played before\, we want you on our team! Cricket basics are easy to pick up\, and everybody will get a chance to be part of the batting\, bowling\, and fielding action. \n\n\n\nPlease bring your cricket kit if you have it. We’ll provide equipment for players who don’t have gear. Come prepared to stay hydrated and nourished because we’ll be out on the field for a couple of hours. \n\n\n\nOur practice matches are fun\, free\, and welcoming. Bring your friends too! If you can’t make this one\, stay tuned for our next event. As always\, let’s keep the cricket ball rolling in SoCal.
URL:https://socalwomenscricket.com/event/cricket-practice-december-2/
CATEGORIES:Practice Match
ATTACH;FMTTYPE=image/png:https://socalwomenscricket.com/wp-content/uploads/2023/11/Irvine-Great-Park-Cricket-Practice.png
END:VEVENT
BEGIN:VEVENT
DTSTART;TZID=UTC:20231028T150000
DTEND;TZID=UTC:20231028T170000
DTSTAMP:20260423T163949
CREATED:20231103T025104Z
LAST-MODIFIED:20231103T025106Z
UID:683-1698505200-1698512400@socalwomenscricket.com
SUMMARY:SoCal Women's Cricket Practice | October 28
DESCRIPTION:Come on out for our 9th cricket practice event for women! We’ll play in the Irvine Great Park on Sunday\, October 28th @ 3pm. Please RSVP for the exact field location. \n\n\n\nIf you haven’t tried the game of cricket\, this is a great opportunity to learn why it has 2.5 billion fans worldwide – it’s really fun to hit the ball! \n\n\n\nWe’re working on improving our batting\, bowling\, and fielding skills\, so we’ll warmup and then do some drills. Everybody will get a chance to be part of the action. Women cricketers of any experience level are welcome – whether you’re a rookie or a veteran\, we want you on our team! \n\n\n\nPlease bring your cricket kit if you have it. We’ll provide equipment for players who don’t have gear. The forecast shows perfect cricket-playing weather\, but come prepared to stay hydrated. \n\n\n\nOur practice matches are fun\, free\, and welcoming. Bring your friends too! If you can’t make this one\, stay tuned for our next event. As always\, let’s keep the cricket ball rolling in SoCal!
URL:https://socalwomenscricket.com/event/cricket-practice-october-28/
CATEGORIES:Irvine,Practice Match
ATTACH;FMTTYPE=image/png:https://socalwomenscricket.com/wp-content/uploads/2023/11/Irvine-Great-Park-Cricket-Practice.png
END:VEVENT
BEGIN:VEVENT
DTSTART;TZID=UTC:20231022T150000
DTEND;TZID=UTC:20231022T170000
DTSTAMP:20260423T163950
CREATED:20231103T030833Z
LAST-MODIFIED:20231103T030835Z
UID:686-1697986800-1697994000@socalwomenscricket.com
SUMMARY:SoCal Women's Cricket Practice | October 22
DESCRIPTION:Come on out for our 8th cricket practice event for women! We’ll play in the Great Park in Irvine on Sunday\, October 22nd @ 3pm. Please RSVP for the exact field location. \n\n\n\nIf you haven’t tried the game of cricket\, this is a great opportunity to learn why it has 2.5 billion fans worldwide – it’s really fun to hit the ball! \n\n\n\nWe’re building a team and working on improving our batting\, bowling\, and fielding skills\, so we’ll warmup and then do some drills. Everybody will get a chance to be part of the action. Women cricketers of any experience level are welcome – whether you’re a rookie or a veteran\, we want you on our team! \n\n\n\nWe’ll have the boundaries marked to regulation so everyone can get a sense of what playing on a full-size cricket field feels like. \n\n\n\nPlease bring your cricket kit if you have it. We’ll provide equipment for players who don’t have gear. The forecast shows perfect cricket-playing weather. \n\n\n\nOur practice matches are fun\, free\, and welcoming. Bring your friends too! If you can’t make this one\, stay tuned for our next event. As always\, let’s keep the cricket ball rolling in SoCal!
URL:https://socalwomenscricket.com/event/cricket-practice-october-22/
CATEGORIES:Irvine,Practice Match
ATTACH;FMTTYPE=image/png:https://socalwomenscricket.com/wp-content/uploads/2023/11/Irvine-Great-Park-Cricket-Practice.png
END:VEVENT
BEGIN:VEVENT
DTSTART;TZID=UTC:20231008T120000
DTEND;TZID=UTC:20231008T140000
DTSTAMP:20260423T163950
CREATED:20231103T031407Z
LAST-MODIFIED:20231103T031409Z
UID:688-1696766400-1696773600@socalwomenscricket.com
SUMMARY:SoCal Women's Cricket Practice | October 8
DESCRIPTION:Join us for our 7th women’s cricket practice event. We’ll play in Irvine on Sunday\, October 8th\, from 12 pm – 2 pm. Please RSVP for the exact field location. \n\n\n\nWe’re building a local women’s cricket team and will work on improving our batting\, bowling\, and fielding skills. Everybody will get a chance to bat and participate.  \n\n\n\nWomen cricketers of any experience level are welcome – whether you’re a rookie or a veteran\, we want you on our team! \n\n\n\nPlease bring your cricket kit if you have it. We’ll provide equipment for players who don’t have gear. The forecast shows perfect cricket-playing weather. \n\n\n\nOur practice matches are fun\, free\, and welcoming. Bring your friends too! If you can’t make this one\, stay tuned for our next event. As always\, let’s keep the cricket ball rolling in SoCal!
URL:https://socalwomenscricket.com/event/cricket-practice-october-8/
CATEGORIES:Irvine,Practice Match
ATTACH;FMTTYPE=image/png:https://socalwomenscricket.com/wp-content/uploads/2023/11/Irvine-Womens-Cricket-Practice-October-8.png
END:VEVENT
BEGIN:VEVENT
DTSTART;TZID=UTC:20230917T120000
DTEND;TZID=UTC:20230917T140000
DTSTAMP:20260423T163950
CREATED:20230913T033447Z
LAST-MODIFIED:20230913T034742Z
UID:541-1694952000-1694959200@socalwomenscricket.com
SUMMARY:SoCal Women's Cricket Practice | September 17
DESCRIPTION:Watching the 2023 ICC Women’s T20 World Cup Americas Qualifiers was a blast and we’re ready to hone our own cricket skills. Join us for our 6th cricket practice event for women. \n\n\n\nWe’ll play in Irvine on Sunday\, September 17\, from 12 pm – 2 pm. Please RSVP for the exact field location. \n\n\n\nWe’re working on improving our batting\, bowling\, and fielding skills\, so we’ll warmup and then do drills. Women cricketers of any experience level are welcome – whether you’re a rookie or a veteran\, we want you on our team! \n\n\n\nPlease bring your cricket kit if you have it. We’ll provide equipment for players who don’t have gear. The weather will finally be a little bit cooler\, but still bring water and sun protection. \n\n\n\nOur practice matches are fun\, free\, and welcoming. Bring your friends too! If you can’t make this one\, stay tuned for our next event. As always\, let’s keep the cricket ball rolling in SoCal!
URL:https://socalwomenscricket.com/event/cricket-practice-september-17/
CATEGORIES:Irvine,Practice Match
ATTACH;FMTTYPE=image/png:https://socalwomenscricket.com/wp-content/uploads/2023/09/Irvine-Cricket-Drills-Practice-September-17.png
END:VEVENT
BEGIN:VEVENT
DTSTART;TZID=UTC:20230910T140000
DTEND;TZID=UTC:20230910T170000
DTSTAMP:20260423T163950
CREATED:20231103T040308Z
LAST-MODIFIED:20231103T040311Z
UID:691-1694354400-1694365200@socalwomenscricket.com
SUMMARY:T20 Women's Cricket Americas Qualifier Live Event | Sept. 10
DESCRIPTION:The ICC Women’s T20 World Cup Americas Region Qualifier 2023 is taking place at Woodley Cricket Complex in Van Nuys\, CA. \n\n\n\nWe’ll be at the field on Sunday\, September 10 for the 2:00 PM match of USA versus Brazil. Come on out with us and watch some live cricket action! \n\n\n\nThis tournament is the pathway to the 2024 T20 Women’s World Cup. The tournament is off to an exciting start with USA Women’s Cricket undefeated and Canada Women’s Cricket close behind. \n\n\n\nWe’ll have a spot set up near the cricket field. Don’t miss this chance to see some live international cricket in SoCal’s backyard. See you out there!
URL:https://socalwomenscricket.com/event/womens-cricket-americas-qualifier-live-event/
ATTACH;FMTTYPE=image/png:https://socalwomenscricket.com/wp-content/uploads/2023/11/Cricket-Match-Watch-Event-T20-Womens-Cricket-World-Cup-Americas-Qualifier.png
END:VEVENT
BEGIN:VEVENT
DTSTART;TZID=UTC:20230827T110000
DTEND;TZID=UTC:20230827T130000
DTSTAMP:20260423T163950
CREATED:20230823T041702Z
LAST-MODIFIED:20230823T041704Z
UID:522-1693134000-1693141200@socalwomenscricket.com
SUMMARY:SoCal Women's Cricket Practice & Match | August 27
DESCRIPTION:Women’s cricket season is still in full swing and we’re inviting all women players to join SoCal Women’s Cricket Association for our fifth event in Orange County\, CA. We’re hosting a practice women’s cricket match in Irvine\, CA on Sunday August 27\, from 11 am to 1 pm.  \n\n\n\nPlease RSVP for the exact field location. \n\n\n\nOur last event consisted of a fun practice cricket match and we’ll follow the same format. Last match\, the cricketer with the highest number of runs scored a $25 gift card\, while the lady cricketer with the most 4’s scored a bonus $5 gift card.  \n\n\n\nWe’ll start off with fielding\, bowling\, and batting warm-up\, and then get the match going. Each lady will bat for 3 overs (18 balls). We’ll bat from one side and the batswoman can run to score and walk back. We’ll have the boundary marked out to regulation\, so you can also score 4’s and 6’s. Everybody else will play as fielders\, the bowler\, or the wicketkeeper. You can actually bowl or just pitch the ball\, as long as the ball gets to the batter. \n\n\n\nThe cricketer with the highest number of runs wins a prize! \n\n\n\nPlease bring your cricket kit if you have it. We’ll provide cricket bats\, balls\, and other equipment for players who don’t have gear.  \n\n\n\nThe forecast will once again be sunny and warm in Irvine\, CA\, so come dressed to play cricket in the heat and bring a couple of water bottles. \n\n\n\nOur practice matches are fun\, free\, and welcoming. Newcomers and women cricket players of all skill levels can join\, and bring your friends too! Once they hit the ball once\, they’ll be hooked! If you can’t make this one\, stay tuned for our next event. As always\, let’s keep the cricket ball rolling in SoCal! \n\n\n\nQuestions? Send us an email at admin@socalwomenscricket.com or give us a call at 213-444-6136.
URL:https://socalwomenscricket.com/event/practice-match-august-27/
CATEGORIES:Irvine,Practice Match,SoCal Cricket,women's cricket
ATTACH;FMTTYPE=image/png:https://socalwomenscricket.com/wp-content/uploads/2023/08/Orange-County-Cricket-Match-Irvine-August-27.png
END:VEVENT
BEGIN:VEVENT
DTSTART;TZID=UTC:20230805T140000
DTEND;TZID=UTC:20230805T160000
DTSTAMP:20260423T163950
CREATED:20230729T173326Z
LAST-MODIFIED:20230729T173329Z
UID:510-1691244000-1691251200@socalwomenscricket.com
SUMMARY:SoCal Women's Cricket Practice & Match | August 5
DESCRIPTION:Women’s cricket season is in full swing and we’re inviting all women players to join SoCal Women’s Cricket Association for our fourth event in Orange County\, CA. We’re hosting a practice women’s cricket match in Irvine\, CA on Saturday August 5\, from 2 pm to 4 pm. Please RSVP for the exact field location. \n\n\n\nOur group of women cricketers is growing by the day and we’re planning on playing a six-a-side style cricket match that will give everybody an opportunity to play. You’re welcome to join us whether you’re a cricket veteran or brand new to the game. Bring your friends too – once they try cricket\, they’ll want to play everyday! \n\n\n\nThe forecast shows mid-80s in Irvine\, CA for the event date\, so come dressed to play cricket in the heat and bring a couple of water bottles. Please also bring your cricket kit if you have it. We’ll provide cricket bats\, balls\, and other equipment for players who don’t have gear.  \n\n\n\nWe’ll start off with fielding\, bowling\, and batting warm-up\, and then get the match going! The field will be marked out to regulation size so players can get a sense of how actual matches feel. \n\n\n\nIf you can’t make this one\, stay tuned for our next match! We host women’s cricket events at least once a month and are gearing up to host an Orange County cricket tournament at the end of the summer. \n\n\n\nAs always\, let’s keep the cricket ball rolling! \n\n\n\nQuestions? Send us an email at admin@socalwomenscricket.com or give us a call at 213-444-6136.
URL:https://socalwomenscricket.com/event/practice-match-august-5/
CATEGORIES:Irvine,Practice Match,SoCal Cricket
ATTACH;FMTTYPE=image/png:https://socalwomenscricket.com/wp-content/uploads/2023/07/SoCal-Womens-Cricket-Orange-County-Event-Flyer-Landscape.png
END:VEVENT
BEGIN:VEVENT
DTSTART;TZID=UTC:20230716T140000
DTEND;TZID=UTC:20230716T160000
DTSTAMP:20260423T163950
CREATED:20230715T181617Z
LAST-MODIFIED:20230715T185209Z
UID:501-1689516000-1689523200@socalwomenscricket.com
SUMMARY:SoCal Women's Cricket Practice & Match | July 16
DESCRIPTION:Join SoCal Women’s Cricket for our third Orange County cricket event of the season! We’ll meet on July 16 from 2 to 4 pm in Mission Viejo\, CA for practice and a casual cricket match. Please RSVP for the field location.  \n\n\n\nWhether you’re a cricket veteran or a newbie\, we’d like to see you out on the pitch! Our all-women cricket matches are fun\, free\, and easy to pick up. Feel free to bring a friend to try their hand at cricket too. \n\n\n\nSummer is showing off in Southern California this weekend\, so come dressed to play cricket in the sun and bring a couple of water bottles. Please also bring your cricket kit if you have it. We’ll provide cricket bats\, balls\, and other equipment for players who don’t have gear.  \n\n\n\nWe’ll start off with fielding\, bowling\, and batting warm-up\, and then get a little match going! The field will be marked out to regulation size so players can get a sense of how regulation matches feel.  \n\n\n\nIf you can’t make this one\, stay tuned for our next match! You can also check out our first match recap to find out about all the fun. \n\n\n\nLet’s keep the California cricket ball rolling! \n\n\n\nQuestions? Send us an email at admin@socalwomenscricket.com or give us a call at 213-444-6136.
URL:https://socalwomenscricket.com/event/practice-match-july-16/
CATEGORIES:Practice Match,SoCal Cricket,women's cricket
ATTACH;FMTTYPE=image/png:https://socalwomenscricket.com/wp-content/uploads/2023/07/SoCal-Womens-Cricket-Match-7.16.23-Event-Poster.png
END:VEVENT
BEGIN:VEVENT
DTSTART;TZID=UTC:20230702T093000
DTEND;TZID=UTC:20230702T120000
DTSTAMP:20260423T163950
CREATED:20230629T092422Z
LAST-MODIFIED:20230629T092427Z
UID:428-1688290200-1688299200@socalwomenscricket.com
SUMMARY:SoCal Women's Cricket Practice Match | July 2
DESCRIPTION:Cricket Newcomers Welcome\n\n\n\nLet’s keep the cricket ball rolling and meet on Sunday\, July 2nd from 9:30 am to 12:00 pm in Mission Viejo for our second practice cricket match in Orange County! RSVP for the exact field location. \n\n\n\nNewcomers and women of all cricket skill levels are welcome. The game is fun\, free\, and easy to learn. Feel free to bring a friend! \n\n\n\nIt’s going to be hot this weekend\, so come dressed to play cricket and prepared to stay hydrated. If you have a cricket kit\, please bring it. We will provide cricket bats\, balls\, and other gear if you don’t have it. The field will be marked out to regulation women’s cricket match size\, so get ready to hit some maximums! \n\n\n\nWe’ll do a round of intros and then get to the fun part of whacking the ball! Everybody will get a chance to play cricket. If you can’t make this one\, stay tuned for matches on alternate days and locations! \n\n\n\nLet’s make this a hot cricket summer in Southern California!
URL:https://socalwomenscricket.com/event/practice-match-july-2/
CATEGORIES:Practice Match,SoCal Cricket,women's cricket
ATTACH;FMTTYPE=image/png:https://socalwomenscricket.com/wp-content/uploads/2023/06/SoCal-Womens-Cricket-July-2-Practice-Event.png
END:VEVENT
BEGIN:VEVENT
DTSTART;TZID=UTC:20230625T100000
DTEND;TZID=UTC:20230625T130000
DTSTAMP:20260423T163950
CREATED:20230618T060743Z
LAST-MODIFIED:20230704T222538Z
UID:265-1687687200-1687698000@socalwomenscricket.com
SUMMARY:SoCal Women's Cricket Practice Match | June 25
DESCRIPTION:It’s time for SoCal Women’s Cricket Association’s first all-women’s cricket practice match in Irvine! Join us for this opportunity to learn cricket\, have fun\, and expand the women’s cricket community in Southern California. \n\n\n\nThis event is open to adult women cricket players of all skill levels. We especially encourage master’s women’s players to come out and play cricket with us. \n\n\n\nEvent schedule may change based on attendance. We plan to do a round of intros\, have some activities to gauge cricket skills\, and play a short cricket match. We will provide cricket bats and balls to play\, and we’ll have the field marked out to regulation size. If you have cricket gear\, please bring it\, and if you have friends bring them too! \n\n\n\nWe’re excited to kick off the summer with some cricket action!
URL:https://socalwomenscricket.com/event/practice-match-june-25/
CATEGORIES:Irvine,Practice Match
ATTACH;FMTTYPE=image/png:https://socalwomenscricket.com/wp-content/uploads/2023/06/SoCal-Womens-Cricket-Practice-Match-June-25-2023.png
ORGANIZER;CN="SCWCA":MAILTO:admin@socalwomenscricket.com
END:VEVENT
END:VCALENDAR